BEGIN:VCALENDAR
VERSION:2.0
PRODID:-//Gracepoint Church - ECPv6.15.20//NONSGML v1.0//EN
CALSCALE:GREGORIAN
METHOD:PUBLISH
X-ORIGINAL-URL:https://gracepoint.net
X-WR-CALDESC:Events for Gracepoint Church
REFRESH-INTERVAL;VALUE=DURATION:PT1H
X-Robots-Tag:noindex
X-PUBLISHED-TTL:PT1H
BEGIN:VTIMEZONE
TZID:UTC
BEGIN:STANDARD
TZOFFSETFROM:+0000
TZOFFSETTO:+0000
TZNAME:UTC
DTSTART:20190101T000000
END:STANDARD
END:VTIMEZONE
BEGIN:VEVENT
DTSTART;TZID=UTC:20201017T180000
DTEND;TZID=UTC:20201017T200000
DTSTAMP:20260420T065716
CREATED:20200605T092803Z
LAST-MODIFIED:20200613T102055Z
UID:377-1602957600-1602964800@gracepoint.net
SUMMARY:HARVEST FESTIVAL
DESCRIPTION:
URL:https://gracepoint.net/event/harvest-festival/
END:VEVENT
BEGIN:VEVENT
DTSTART;VALUE=DATE:20200913
DTEND;VALUE=DATE:20200914
DTSTAMP:20260420T065716
CREATED:20200817T062156Z
LAST-MODIFIED:20200818T160845Z
UID:909-1599955200-1600041599@gracepoint.net
SUMMARY:MASTERCLASS SERIES
DESCRIPTION:MASTERCLASS Series \nLearn from The Master Teacher\, Jesus \nTeachings from The Sermon on the Mount \n 
URL:https://gracepoint.net/event/master-class-series/
LOCATION:Online
END:VEVENT
END:VCALENDAR